BEGIN:VCALENDAR
VERSION:2.0
PRODID:SchoolNow
CALSCALE:GREGORIAN
BEGIN:VEVENT
UID:bfdd3e80-89aa-11f0-a55f-0eda9216a9fd
DTSTAMP:20250904T161810Z
SUMMARY:CDD Board Meeting - May 2026
LOCATION:Home2Suites By Hilton Stuart - 1440 NW Federal Hwy\, Stuart\, FL 3
 4994
URL;VALUE=URI:https://www.ltcranchwestcdd.org/calendar/8580458/cdd-board-me
 eting-may-2026
DTSTART:20260519T174500Z
DTEND:20260519T184500Z
END:VEVENT
END:VCALENDAR
