BEGIN:VCALENDAR
VERSION:2.0
PRODID:SchoolNow
CALSCALE:GREGORIAN
BEGIN:VEVENT
UID:d4c56ec0-75f2-11ef-b232-0affd9189e87
DTSTAMP:20241119T163252Z
SUMMARY:(Cancelled) CDD Board Meeting - December 2024
LOCATION:Port St. Lucie Community Center located at 2195 SE Airoso Blvd\, P
 ort Saint Lucie\, FL 34984
URL;VALUE=URI:https://www.ltcranchwestcdd.org/calendar/6636760/cdd-board-me
 eting-december-2024
DTSTART:20241210T163000Z
DTEND:20241210T173000Z
END:VEVENT
END:VCALENDAR
